BEGIN:VCALENDAR
VERSION:2.0
PRODID:-//Kirche Hohenlockstedt - ECPv6.10.2//NONSGML v1.0//EN
CALSCALE:GREGORIAN
METHOD:PUBLISH
X-WR-CALNAME:Kirche Hohenlockstedt
X-ORIGINAL-URL:https://kirche-hohenlockstedt.de
X-WR-CALDESC:Veranstaltungen für Kirche Hohenlockstedt
REFRESH-INTERVAL;VALUE=DURATION:PT1H
X-Robots-Tag:noindex
X-PUBLISHED-TTL:PT1H
BEGIN:VTIMEZONE
TZID:Europe/Berlin
BEGIN:DAYLIGHT
TZOFFSETFROM:+0100
TZOFFSETTO:+0200
TZNAME:CEST
DTSTART:20220327T010000
END:DAYLIGHT
BEGIN:STANDARD
TZOFFSETFROM:+0200
TZOFFSETTO:+0100
TZNAME:CET
DTSTART:20221030T010000
END:STANDARD
END:VTIMEZONE
BEGIN:VEVENT
DTSTART;TZID=Europe/Berlin:20220508T100000
DTEND;TZID=Europe/Berlin:20220508T110000
DTSTAMP:20260425T213038
CREATED:20191113T175641Z
LAST-MODIFIED:20220503T181239Z
UID:4703-1652004000-1652007600@kirche-hohenlockstedt.de
SUMMARY:GOLDENE KONFIRMATION
DESCRIPTION:P. Clausen \n 
URL:https://kirche-hohenlockstedt.de/event/goldene-konfirmation-2020-2/
LOCATION:Dreifaltigkeitskirche\, Hohenlockstedt\, Deutschland
CATEGORIES:Kalender,Veranstaltungen
END:VEVENT
END:VCALENDAR