BEGIN:VCALENDAR
VERSION:2.0
PRODID:-//Kirche Hohenlockstedt - ECPv6.10.2//NONSGML v1.0//EN
CALSCALE:GREGORIAN
METHOD:PUBLISH
X-WR-CALNAME:Kirche Hohenlockstedt
X-ORIGINAL-URL:https://kirche-hohenlockstedt.de
X-WR-CALDESC:Veranstaltungen für Kirche Hohenlockstedt
REFRESH-INTERVAL;VALUE=DURATION:PT1H
X-Robots-Tag:noindex
X-PUBLISHED-TTL:PT1H
BEGIN:VTIMEZONE
TZID:Europe/Berlin
BEGIN:DAYLIGHT
TZOFFSETFROM:+0100
TZOFFSETTO:+0200
TZNAME:CEST
DTSTART:20250330T010000
END:DAYLIGHT
BEGIN:STANDARD
TZOFFSETFROM:+0200
TZOFFSETTO:+0100
TZNAME:CET
DTSTART:20251026T010000
END:STANDARD
END:VTIMEZONE
BEGIN:VEVENT
DTSTART;TZID=Europe/Berlin:20251102T100000
DTEND;TZID=Europe/Berlin:20251102T100000
DTSTAMP:20260424T173616
CREATED:20250807T094242Z
LAST-MODIFIED:20250807T094242Z
UID:6816-1762077600-1762077600@kirche-hohenlockstedt.de
SUMMARY:Gottesdienst\, P. Landmesser mit Marcus Quick vom AVC
DESCRIPTION:Patrick Landmesser \nGastreferent Marcus Quick vom AVC
URL:https://kirche-hohenlockstedt.de/event/gottesdienst-p-landmesser-mit-marcus-quick-vom-avc/
LOCATION:Dreifaltigkeitskirche\, Hohenlockstedt\, Deutschland
CATEGORIES:Kalender,Veranstaltungen
END:VEVENT
END:VCALENDAR