BEGIN:VCALENDAR
VERSION:2.0
PRODID:-//Kirche Hohenlockstedt - ECPv6.10.2//NONSGML v1.0//EN
CALSCALE:GREGORIAN
METHOD:PUBLISH
X-ORIGINAL-URL:https://kirche-hohenlockstedt.de
X-WR-CALDESC:Veranstaltungen für Kirche Hohenlockstedt
REFRESH-INTERVAL;VALUE=DURATION:PT1H
X-Robots-Tag:noindex
X-PUBLISHED-TTL:PT1H
BEGIN:VTIMEZONE
TZID:Europe/Berlin
BEGIN:DAYLIGHT
TZOFFSETFROM:+0100
TZOFFSETTO:+0200
TZNAME:CEST
DTSTART:20250330T010000
END:DAYLIGHT
BEGIN:STANDARD
TZOFFSETFROM:+0200
TZOFFSETTO:+0100
TZNAME:CET
DTSTART:20251026T010000
END:STANDARD
END:VTIMEZONE
BEGIN:VEVENT
DTSTART;TZID=Europe/Berlin:20251026T100000
DTEND;TZID=Europe/Berlin:20251026T100000
DTSTAMP:20260420T123300
CREATED:20250807T093529Z
LAST-MODIFIED:20251023T112623Z
UID:6810-1761472800-1761472800@kirche-hohenlockstedt.de
SUMMARY:Crossover aus St.Jakobi nach Holo (getauscht) \, P.Gördel
DESCRIPTION:Wegen urlaubsbedingten Ausfällen\, tauschen wir so\, dass P. Gördel aus St.Jakobi zu uns übertragen wird
URL:https://kirche-hohenlockstedt.de/event/crossover-aus-holo-nach-st-jakobi-p-goerdel/
LOCATION:Dreifaltigkeitskirche\, Hohenlockstedt\, Deutschland
CATEGORIES:Kalender,Veranstaltungen
END:VEVENT
END:VCALENDAR